BEGIN:VCALENDAR
VERSION:2.0
PRODID:-//DMA/DVA - ECPv6.15.18//NONSGML v1.0//EN
CALSCALE:GREGORIAN
METHOD:PUBLISH
X-WR-CALNAME:DMA/DVA
X-ORIGINAL-URL:https://njdmava.gov
X-WR-CALDESC:Events for DMA/DVA
REFRESH-INTERVAL;VALUE=DURATION:PT1H
X-Robots-Tag:noindex
X-PUBLISHED-TTL:PT1H
BEGIN:VTIMEZONE
TZID:America/New_York
BEGIN:DAYLIGHT
TZOFFSETFROM:-0500
TZOFFSETTO:-0400
TZNAME:EDT
DTSTART:20250309T070000
END:DAYLIGHT
BEGIN:STANDARD
TZOFFSETFROM:-0400
TZOFFSETTO:-0500
TZNAME:EST
DTSTART:20251102T060000
END:STANDARD
BEGIN:DAYLIGHT
TZOFFSETFROM:-0500
TZOFFSETTO:-0400
TZNAME:EDT
DTSTART:20260308T070000
END:DAYLIGHT
BEGIN:STANDARD
TZOFFSETFROM:-0400
TZOFFSETTO:-0500
TZNAME:EST
DTSTART:20261101T060000
END:STANDARD
BEGIN:DAYLIGHT
TZOFFSETFROM:-0500
TZOFFSETTO:-0400
TZNAME:EDT
DTSTART:20270314T070000
END:DAYLIGHT
BEGIN:STANDARD
TZOFFSETFROM:-0400
TZOFFSETTO:-0500
TZNAME:EST
DTSTART:20271107T060000
END:STANDARD
END:VTIMEZONE
BEGIN:VEVENT
DTSTART;TZID=America/New_York:20260421T070000
DTEND;TZID=America/New_York:20260421T110000
DTSTAMP:20260421T054941
CREATED:20250106T202935Z
LAST-MODIFIED:20250106T202935Z
UID:10010940-1776754800-1776769200@njdmava.gov
SUMMARY:Thank A Vet Collingswood
DESCRIPTION:
URL:https://njdmava.gov/event/thank-a-vet-collingswood/2026-04-21/
CATEGORIES:Community Sponsored Events,Veterans Organization Events
END:VEVENT
BEGIN:VEVENT
DTSTART;TZID=America/New_York:20260421T100000
DTEND;TZID=America/New_York:20260421T100000
DTSTAMP:20260421T054941
CREATED:20251007T233415Z
LAST-MODIFIED:20251007T233415Z
UID:10015626-1776765600-1776765600@njdmava.gov
SUMMARY:Rutgers Veteran Walking Group
DESCRIPTION:
URL:https://njdmava.gov/event/rutgers-veteran-walking-group/2026-04-21/
CATEGORIES:Community Sponsored Events
END:VEVENT
BEGIN:VEVENT
DTSTART;TZID=America/New_York:20260421T100000
DTEND;TZID=America/New_York:20260421T120000
DTSTAMP:20260421T054941
CREATED:20240802T172445Z
LAST-MODIFIED:20260302T170816Z
UID:10018170-1776765600-1776772800@njdmava.gov
SUMMARY:Passaic County Veterans Support Group
DESCRIPTION:
URL:https://njdmava.gov/event/passaic-county-veterans-support-group/2026-04-21/
CATEGORIES:Community Sponsored Events,Veteran Support Groups
END:VEVENT
BEGIN:VEVENT
DTSTART;TZID=America/New_York:20260421T100000
DTEND;TZID=America/New_York:20260421T130000
DTSTAMP:20260421T054941
CREATED:20260303T204340Z
LAST-MODIFIED:20260414T125741Z
UID:10018439-1776765600-1776776400@njdmava.gov
SUMMARY:Bergen County Senior Expo
DESCRIPTION:DVA will have a Veterans Service Officer present.
URL:https://njdmava.gov/event/bergen-county-senior-expo/
CATEGORIES:Community Sponsored Events,NJ Dept of Veterans Affairs,Outreach Campaigns
END:VEVENT
BEGIN:VEVENT
DTSTART;TZID=America/New_York:20260421T110000
DTEND;TZID=America/New_York:20260421T110000
DTSTAMP:20260421T054941
CREATED:20260408T132558Z
LAST-MODIFIED:20260414T125426Z
UID:10018647-1776769200-1776769200@njdmava.gov
SUMMARY:Bringing Veterans Home Outreach Event | Livingston
DESCRIPTION:
URL:https://njdmava.gov/event/bringing-veterans-home-outreach-event-livingston/
CATEGORIES:Community Sponsored Events,NJ Dept of Veterans Affairs,Outreach Campaigns,Veterans Organization Events
END:VEVENT
BEGIN:VEVENT
DTSTART;TZID=America/New_York:20260421T110000
DTEND;TZID=America/New_York:20260421T130000
DTSTAMP:20260421T054941
CREATED:20260414T183608Z
LAST-MODIFIED:20260414T183608Z
UID:10018698-1776769200-1776776400@njdmava.gov
SUMMARY:Veterans Benefits and Resources Information Session | Runnemede
DESCRIPTION:Screenshot
URL:https://njdmava.gov/event/veterans-benefits-and-resources-information-session-runnemede/
CATEGORIES:Community Sponsored Events,Veterans Organization Events
END:VEVENT
BEGIN:VEVENT
DTSTART;TZID=America/New_York:20260421T120000
DTEND;TZID=America/New_York:20260421T140000
DTSTAMP:20260421T054941
CREATED:20250114T145328Z
LAST-MODIFIED:20251020T184834Z
UID:10011708-1776772800-1776780000@njdmava.gov
SUMMARY:Sisters-In-Arms of South Jersey Chat & Chew
DESCRIPTION:
URL:https://njdmava.gov/event/sisters-in-arms-of-south-jersey-chat-chew-2/2026-04-21/
CATEGORIES:Veteran Support Groups,Veterans Organization Events
END:VEVENT
BEGIN:VEVENT
DTSTART;TZID=America/New_York:20260421T170000
DTEND;TZID=America/New_York:20260421T170000
DTSTAMP:20260421T054941
CREATED:20241014T161016Z
LAST-MODIFIED:20241014T161016Z
UID:10009632-1776790800-1776790800@njdmava.gov
SUMMARY:VA Guided Yoga Nidra Meditation Class
DESCRIPTION:
URL:https://njdmava.gov/event/va-guided-yoga-nidra-meditation-class/2026-04-21/
CATEGORIES:VA Events,Virtual Events
END:VEVENT
BEGIN:VEVENT
DTSTART;TZID=America/New_York:20260421T203000
DTEND;TZID=America/New_York:20260421T213000
DTSTAMP:20260421T054941
CREATED:20251017T122942Z
LAST-MODIFIED:20251017T122942Z
UID:10015933-1776803400-1776807000@njdmava.gov
SUMMARY:Veterans Community Support Group | Egg Harbor
DESCRIPTION:
URL:https://njdmava.gov/event/veterans-community-support-group-egg-harbor/2026-04-21/
CATEGORIES:Community Sponsored Events,Veteran Support Groups
END:VEVENT
END:VCALENDAR