BEGIN:VCALENDAR
VERSION:2.0
PRODID:-//DMA/DVA - ECPv6.15.18//NONSGML v1.0//EN
CALSCALE:GREGORIAN
METHOD:PUBLISH
X-WR-CALNAME:DMA/DVA
X-ORIGINAL-URL:https://njdmava.gov
X-WR-CALDESC:Events for DMA/DVA
REFRESH-INTERVAL;VALUE=DURATION:PT1H
X-Robots-Tag:noindex
X-PUBLISHED-TTL:PT1H
BEGIN:VTIMEZONE
TZID:America/New_York
BEGIN:DAYLIGHT
TZOFFSETFROM:-0500
TZOFFSETTO:-0400
TZNAME:EDT
DTSTART:20250309T070000
END:DAYLIGHT
BEGIN:STANDARD
TZOFFSETFROM:-0400
TZOFFSETTO:-0500
TZNAME:EST
DTSTART:20251102T060000
END:STANDARD
BEGIN:DAYLIGHT
TZOFFSETFROM:-0500
TZOFFSETTO:-0400
TZNAME:EDT
DTSTART:20260308T070000
END:DAYLIGHT
BEGIN:STANDARD
TZOFFSETFROM:-0400
TZOFFSETTO:-0500
TZNAME:EST
DTSTART:20261101T060000
END:STANDARD
BEGIN:DAYLIGHT
TZOFFSETFROM:-0500
TZOFFSETTO:-0400
TZNAME:EDT
DTSTART:20270314T070000
END:DAYLIGHT
BEGIN:STANDARD
TZOFFSETFROM:-0400
TZOFFSETTO:-0500
TZNAME:EST
DTSTART:20271107T060000
END:STANDARD
END:VTIMEZONE
BEGIN:VEVENT
DTSTART;TZID=America/New_York:20260423T100000
DTEND;TZID=America/New_York:20260423T110000
DTSTAMP:20260423T015517
CREATED:20250407T122917Z
LAST-MODIFIED:20250407T122917Z
UID:10012475-1776938400-1776942000@njdmava.gov
SUMMARY:VA Phone Support Group
DESCRIPTION:Thursdays at 10 a.m. weekly. This is a telephone group\, from the comfort of your own home. Trained mental health professionals from VA will lead guided meditation and relaxation sessions. VA will also be checking in with everyone on their level of stress and providing helpful coping tools. Science tells us that relaxation and reduction in stress helps strengthen our immune systems – that’s important right now! \nLearn More
URL:https://njdmava.gov/event/va-phone-support-group/2026-04-23/
CATEGORIES:VA Events,Virtual Events
END:VEVENT
BEGIN:VEVENT
DTSTART;TZID=America/New_York:20260423T100000
DTEND;TZID=America/New_York:20260423T120000
DTSTAMP:20260423T015517
CREATED:20230223T032454Z
LAST-MODIFIED:20240317T132624Z
UID:10003852-1776938400-1776945600@njdmava.gov
SUMMARY:Veterans Coffee & Conversations Lindenwold
DESCRIPTION:All Veterans come and have coffee every Thursday from 10:00am to 12:00pm at the Carlton R. Rouh Veterans Center in Lindenwold\, NJ. Meet other Veterans and have great conversations while enjoy a cup of coffee. \nLearn More
URL:https://njdmava.gov/event/veterans-coffee-and-conversations-lindenwold/2026-04-23/
CATEGORIES:Community Sponsored Events,Veteran Support Groups
END:VEVENT
BEGIN:VEVENT
DTSTART;TZID=America/New_York:20260423T160000
DTEND;TZID=America/New_York:20260423T183000
DTSTAMP:20260423T015517
CREATED:20260408T115721Z
LAST-MODIFIED:20260408T115721Z
UID:10018645-1776960000-1776969000@njdmava.gov
SUMMARY:VA Town Hall and Claims Clinic | Carneys Point
DESCRIPTION:
URL:https://njdmava.gov/event/va-town-hall-and-claims-clinic-carneys-point/
CATEGORIES:VA Events
END:VEVENT
BEGIN:VEVENT
DTSTART;TZID=America/New_York:20260423T173000
DTEND;TZID=America/New_York:20260423T173000
DTSTAMP:20260423T015517
CREATED:20240418T132737Z
LAST-MODIFIED:20260421T122203Z
UID:10018624-1776965400-1776965400@njdmava.gov
SUMMARY:American Legion "Be The One" Training Virtual
DESCRIPTION:As part of The American Legion Be the One mission to end veteran suicide\, we have joined forces with Columbia University to develop training for those who want to learn more about interacting and responding with veterans who may be in crisis. \nLearn More and Register
URL:https://njdmava.gov/event/american-legion-be-the-one-training-virtual/2026-04-23/
CATEGORIES:Veteran Support Groups,Virtual Events
END:VEVENT
BEGIN:VEVENT
DTSTART;TZID=America/New_York:20260423T180000
DTEND;TZID=America/New_York:20260423T200000
DTSTAMP:20260423T015517
CREATED:20230712T135715Z
LAST-MODIFIED:20230712T135715Z
UID:10005295-1776967200-1776974400@njdmava.gov
SUMMARY:"The Listening Ear" Virtual
DESCRIPTION:
URL:https://njdmava.gov/event/the-listening-ear-virtual/2026-04-23/
CATEGORIES:Community Sponsored Events,Veteran Support Groups,Virtual Events
END:VEVENT
BEGIN:VEVENT
DTSTART;TZID=America/New_York:20260423T180000
DTEND;TZID=America/New_York:20260423T200000
DTSTAMP:20260423T015517
CREATED:20260319T161940Z
LAST-MODIFIED:20260319T161940Z
UID:10018561-1776967200-1776974400@njdmava.gov
SUMMARY:Rutgers Veteran Alumni Networking Social | New Brunswick
DESCRIPTION:
URL:https://njdmava.gov/event/rutgers-veteran-alumni-networking-social-new-brunswick/
CATEGORIES:Community Sponsored Events
END:VEVENT
BEGIN:VEVENT
DTSTART;TZID=America/New_York:20260423T190000
DTEND;TZID=America/New_York:20260423T190000
DTSTAMP:20260423T015517
CREATED:20250711T183428Z
LAST-MODIFIED:20250711T183428Z
UID:10013323-1776970800-1776970800@njdmava.gov
SUMMARY:First Responder & Veteran Peer Group on Zoom
DESCRIPTION:
URL:https://njdmava.gov/event/first-responder-veteran-peer-group-on-zoom/2026-04-23/
CATEGORIES:Community Sponsored Events,Virtual Events
END:VEVENT
BEGIN:VEVENT
DTSTART;TZID=America/New_York:20260423T200000
DTEND;TZID=America/New_York:20260423T200000
DTSTAMP:20260423T015517
CREATED:20230305T170358Z
LAST-MODIFIED:20230305T171026Z
UID:10004367-1776974400-1776974400@njdmava.gov
SUMMARY:Make the Connection Virtual
DESCRIPTION:A safe and confidential environment where you can build lasting relationships while exploring and healing your trauma — all alongside others who have ‘been there’. \nLearn More and Register
URL:https://njdmava.gov/event/make-the-connection-virtual/2026-04-23/
CATEGORIES:Community Sponsored Events,Veteran Support Groups,Virtual Events
END:VEVENT
BEGIN:VEVENT
DTSTART;TZID=America/New_York:20260423T200000
DTEND;TZID=America/New_York:20260423T200000
DTSTAMP:20260423T015517
CREATED:20241014T161100Z
LAST-MODIFIED:20241014T161112Z
UID:10010154-1776974400-1776974400@njdmava.gov
SUMMARY:VA Guided Yoga Nidra Meditation Class
DESCRIPTION:
URL:https://njdmava.gov/event/va-guided-yoga-nidra-meditation-class-2/2026-04-23/
CATEGORIES:VA Events,Virtual Events
END:VEVENT
BEGIN:VEVENT
DTSTART;TZID=America/New_York:20260423T200000
DTEND;TZID=America/New_York:20260423T200000
DTSTAMP:20260423T015517
CREATED:20260319T124808Z
LAST-MODIFIED:20260319T125307Z
UID:10018553-1776974400-1776974400@njdmava.gov
SUMMARY:Virtual Support for Military & Veteran Caregivers
DESCRIPTION:We invite caregivers to connect with others walking a similar journey for support. \n\n\n\n\nJoin us for connection and peer support! The Military and Veteran Caregiver Network (MVCN) hosts online support groups designed to bring caregivers together for encouragement and support. \nThese sessions are held on Zoom\, allowing participants to interact face-to-face using a computer or mobile device—or join by phone. Groups are flexible and informal\, so feel free to drop in whenever you’re able\, even if you can only stay for part of the session. \nLearn More & Register
URL:https://njdmava.gov/event/54356/2026-04-23/
CATEGORIES:Community Sponsored Events,Veteran Support Groups,Virtual Events
END:VEVENT
END:VCALENDAR