BEGIN:VCALENDAR
VERSION:2.0
PRODID:-//DMA/DVA - ECPv6.15.18//NONSGML v1.0//EN
CALSCALE:GREGORIAN
METHOD:PUBLISH
X-WR-CALNAME:DMA/DVA
X-ORIGINAL-URL:https://njdmava.gov
X-WR-CALDESC:Events for DMA/DVA
REFRESH-INTERVAL;VALUE=DURATION:PT1H
X-Robots-Tag:noindex
X-PUBLISHED-TTL:PT1H
BEGIN:VTIMEZONE
TZID:America/New_York
BEGIN:DAYLIGHT
TZOFFSETFROM:-0500
TZOFFSETTO:-0400
TZNAME:EDT
DTSTART:20250309T070000
END:DAYLIGHT
BEGIN:STANDARD
TZOFFSETFROM:-0400
TZOFFSETTO:-0500
TZNAME:EST
DTSTART:20251102T060000
END:STANDARD
BEGIN:DAYLIGHT
TZOFFSETFROM:-0500
TZOFFSETTO:-0400
TZNAME:EDT
DTSTART:20260308T070000
END:DAYLIGHT
BEGIN:STANDARD
TZOFFSETFROM:-0400
TZOFFSETTO:-0500
TZNAME:EST
DTSTART:20261101T060000
END:STANDARD
BEGIN:DAYLIGHT
TZOFFSETFROM:-0500
TZOFFSETTO:-0400
TZNAME:EDT
DTSTART:20270314T070000
END:DAYLIGHT
BEGIN:STANDARD
TZOFFSETFROM:-0400
TZOFFSETTO:-0500
TZNAME:EST
DTSTART:20271107T060000
END:STANDARD
END:VTIMEZONE
BEGIN:VEVENT
DTSTART;TZID=America/New_York:20260424T080000
DTEND;TZID=America/New_York:20260424T080000
DTSTAMP:20260424T062006
CREATED:20251115T000207Z
LAST-MODIFIED:20251115T002133Z
UID:10016355-1777017600-1777017600@njdmava.gov
SUMMARY:Women Veteran Weekly Walk | Pennsauken
DESCRIPTION:
URL:https://njdmava.gov/event/women-veteran-weekly-walk-pennsauken/2026-04-24/
CATEGORIES:Community Sponsored Events,Veteran Support Groups
END:VEVENT
BEGIN:VEVENT
DTSTART;TZID=America/New_York:20260424T090000
DTEND;TZID=America/New_York:20260424T103000
DTSTAMP:20260424T062006
CREATED:20260415T143343Z
LAST-MODIFIED:20260415T143343Z
UID:10018700-1777021200-1777026600@njdmava.gov
SUMMARY:DVVC Quarterly Zoom Meeting
DESCRIPTION:
URL:https://njdmava.gov/event/dvvc-quarterly-zoom-meeting/
CATEGORIES:Community Sponsored Events,Virtual Events
END:VEVENT
BEGIN:VEVENT
DTSTART;TZID=America/New_York:20260424T100000
DTEND;TZID=America/New_York:20260424T140000
DTSTAMP:20260424T062006
CREATED:20231004T132431Z
LAST-MODIFIED:20251218T023926Z
UID:10006691-1777024800-1777039200@njdmava.gov
SUMMARY:Veteran Center Food Pantry Carteret
DESCRIPTION:
URL:https://njdmava.gov/event/veteran-center-food-pantry-carteret-2/2026-04-24/
CATEGORIES:Community Sponsored Events,Veteran Support Groups
END:VEVENT
BEGIN:VEVENT
DTSTART;TZID=America/New_York:20260424T140000
DTEND;TZID=America/New_York:20260424T150000
DTSTAMP:20260424T062006
CREATED:20260124T134213Z
LAST-MODIFIED:20260124T140238Z
UID:10017390-1777039200-1777042800@njdmava.gov
SUMMARY:Veteran Spouse Network Coffee Chat | Virtual
DESCRIPTION:Veteran Spouse Network\nJoin Us for Coffee Chat! \nOur weekly Coffee Chats are a casual\, virtual space to connect with other veteran and military-connected spouses and partners — no agenda\, no pressure\, just community. \n🗓️ Every Friday\n💻 Virtual | Free | Nationwide \nBring your coffee (or tea!) and join the conversation — we can’t wait to see you there! \nLearn More
URL:https://njdmava.gov/event/veteran-spouse-network-coffee-chat-virtual/2026-04-24/
CATEGORIES:Community Sponsored Events,Veteran Support Groups
END:VEVENT
END:VCALENDAR