BEGIN:VCALENDAR
VERSION:2.0
PRODID:-//DMA/DVA - ECPv6.15.18//NONSGML v1.0//EN
CALSCALE:GREGORIAN
METHOD:PUBLISH
X-ORIGINAL-URL:https://njdmava.gov
X-WR-CALDESC:Events for DMA/DVA
REFRESH-INTERVAL;VALUE=DURATION:PT1H
X-Robots-Tag:noindex
X-PUBLISHED-TTL:PT1H
BEGIN:VTIMEZONE
TZID:America/New_York
BEGIN:DAYLIGHT
TZOFFSETFROM:-0500
TZOFFSETTO:-0400
TZNAME:EDT
DTSTART:20250309T070000
END:DAYLIGHT
BEGIN:STANDARD
TZOFFSETFROM:-0400
TZOFFSETTO:-0500
TZNAME:EST
DTSTART:20251102T060000
END:STANDARD
BEGIN:DAYLIGHT
TZOFFSETFROM:-0500
TZOFFSETTO:-0400
TZNAME:EDT
DTSTART:20260308T070000
END:DAYLIGHT
BEGIN:STANDARD
TZOFFSETFROM:-0400
TZOFFSETTO:-0500
TZNAME:EST
DTSTART:20261101T060000
END:STANDARD
BEGIN:DAYLIGHT
TZOFFSETFROM:-0500
TZOFFSETTO:-0400
TZNAME:EDT
DTSTART:20270314T070000
END:DAYLIGHT
BEGIN:STANDARD
TZOFFSETFROM:-0400
TZOFFSETTO:-0500
TZNAME:EST
DTSTART:20271107T060000
END:STANDARD
END:VTIMEZONE
BEGIN:VEVENT
DTSTART;TZID=America/New_York:20260307T090000
DTEND;TZID=America/New_York:20260307T130000
DTSTAMP:20260421T045848
CREATED:20260223T144058Z
LAST-MODIFIED:20260304T145728Z
UID:10018145-1772874000-1772888400@njdmava.gov
SUMMARY:Military Retirement / Transition Seminar | Bordentown
DESCRIPTION:Half-day presentation from 0900 to 1300 hours on retirement programs\, benefits\, and entitlements. \nSeminars are scheduled to be held in-person at the Bordentown Armory. \nThe NJ Department of Veterans Affairs will have a Veteran Service Officer present. \nLearn more and register
URL:https://njdmava.gov/event/retirement-transition-seminar-bordentown/
LOCATION:Joint Military & Family Assistance Center\, 1048 US Highway 206\, Bordentown\, NJ\, 08505\, United States
CATEGORIES:NJ Dept of Military Affairs,NJ Dept of Veterans Affairs,Outreach Campaigns,Transition / Retirement Events
END:VEVENT
BEGIN:VEVENT
DTSTART;TZID=America/New_York:20260311T123000
DTEND;TZID=America/New_York:20260311T150000
DTSTAMP:20260421T045848
CREATED:20260211T132326Z
LAST-MODIFIED:20260303T174354Z
UID:10018046-1773232200-1773241200@njdmava.gov
SUMMARY:NJ SOS Bergen County Stakeholders Meeting
DESCRIPTION:DVA will have a Veterans Service Officer present.
URL:https://njdmava.gov/event/nj-sos-bergen-county-stakeholders-meeting/
CATEGORIES:Community Sponsored Events,NJ Dept of Veterans Affairs,Outreach Campaigns,Veteran Support Groups
END:VEVENT
BEGIN:VEVENT
DTSTART;TZID=America/New_York:20260318T080000
DTEND;TZID=America/New_York:20260318T140000
DTSTAMP:20260421T045848
CREATED:20260218T173748Z
LAST-MODIFIED:20260316T183318Z
UID:10018086-1773820800-1773842400@njdmava.gov
SUMMARY:Veterans Benefits & Health Fair | Ocean City
DESCRIPTION:DVA will have a Veterans Service Officer present.
URL:https://njdmava.gov/event/veterans-benefits-health-fair-ocean-city/
CATEGORIES:Community Sponsored Events,NJ Dept of Veterans Affairs,Outreach Campaigns,Veteran Support Groups
END:VEVENT
BEGIN:VEVENT
DTSTART;TZID=America/New_York:20260318T083000
DTEND;TZID=America/New_York:20260318T113000
DTSTAMP:20260421T045848
CREATED:20260217T161343Z
LAST-MODIFIED:20260309T141610Z
UID:10018083-1773822600-1773833400@njdmava.gov
SUMMARY:Operation Sisterhood - Honoring Our Sisters Breakfast | Paramus
DESCRIPTION:DVA will have a Veterans Service Officer present.
URL:https://njdmava.gov/event/operation-sisterhood-honoring-our-sisters-breakfast-paramus/
CATEGORIES:Community Sponsored Events,NJ Dept of Veterans Affairs,Outreach Campaigns,Veteran Support Groups
END:VEVENT
BEGIN:VEVENT
DTSTART;TZID=America/New_York:20260319T110000
DTEND;TZID=America/New_York:20260319T140000
DTSTAMP:20260421T045848
CREATED:20260318T150709Z
LAST-MODIFIED:20260318T150709Z
UID:10018545-1773918000-1773928800@njdmava.gov
SUMMARY:Veterans Information Session | Newark
DESCRIPTION:DVA will have a Veterans Service Officer present.
URL:https://njdmava.gov/event/veterans-information-session-newark/
CATEGORIES:Community Sponsored Events,NJ Dept of Veterans Affairs,Outreach Campaigns
END:VEVENT
BEGIN:VEVENT
DTSTART;TZID=America/New_York:20260323T100000
DTEND;TZID=America/New_York:20260323T140000
DTSTAMP:20260421T045848
CREATED:20260302T152601Z
LAST-MODIFIED:20260302T152601Z
UID:10018166-1774260000-1774274400@njdmava.gov
SUMMARY:Veterans' Resource Event | Newark
DESCRIPTION:DVA will have a Veterans Service Officer present.
URL:https://njdmava.gov/event/veterans-resource-event-newark/
CATEGORIES:Community Sponsored Events,NJ Dept of Veterans Affairs,Outreach Campaigns
END:VEVENT
BEGIN:VEVENT
DTSTART;TZID=America/New_York:20260324T100000
DTEND;TZID=America/New_York:20260324T100000
DTSTAMP:20260421T045848
CREATED:20260222T232350Z
LAST-MODIFIED:20260319T123221Z
UID:10018144-1774346400-1774346400@njdmava.gov
SUMMARY:Disabled Veterans Housing Ribbon Cutting | Montvale
DESCRIPTION:DVA will have a Veterans Service Officer present.
URL:https://njdmava.gov/event/disabled-veterans-housing-ribbon-cutting-montvale/
CATEGORIES:Community Sponsored Events,NJ Dept of Veterans Affairs,Outreach Campaigns,Veteran Support Groups
END:VEVENT
BEGIN:VEVENT
DTSTART;TZID=America/New_York:20260324T100000
DTEND;TZID=America/New_York:20260324T130000
DTSTAMP:20260421T045848
CREATED:20260309T154607Z
LAST-MODIFIED:20260310T183318Z
UID:10018509-1774346400-1774357200@njdmava.gov
SUMMARY:Senior Expo | Edison
DESCRIPTION:DVA will have a Veterans Service Officer present.
URL:https://njdmava.gov/event/senior-expo-edison/
CATEGORIES:Community Sponsored Events,NJ Dept of Veterans Affairs,Outreach Campaigns
END:VEVENT
BEGIN:VEVENT
DTSTART;TZID=America/New_York:20260327T100000
DTEND;TZID=America/New_York:20260327T140000
DTSTAMP:20260421T045848
CREATED:20260307T122439Z
LAST-MODIFIED:20260307T122706Z
UID:10018448-1774605600-1774620000@njdmava.gov
SUMMARY:Veteran Career & Resource Fair | Camden
DESCRIPTION:DVA will have a Veterans Service Officer present.
URL:https://njdmava.gov/event/veteran-career-resource-fair-camden/
CATEGORIES:Community Sponsored Events,NJ Dept of Veterans Affairs,Outreach Campaigns
END:VEVENT
BEGIN:VEVENT
DTSTART;TZID=America/New_York:20260327T110000
DTEND;TZID=America/New_York:20260327T150000
DTSTAMP:20260421T045848
CREATED:20260312T115352Z
LAST-MODIFIED:20260324T195036Z
UID:10018518-1774609200-1774623600@njdmava.gov
SUMMARY:Mercer County National Vietnam War Veterans Day
DESCRIPTION:DVA will have a Veterans Service Officer present.
URL:https://njdmava.gov/event/mercer-county-national-vietnam-war-veterans-day/
CATEGORIES:Community Sponsored Events,NJ Dept of Veterans Affairs,Outreach Campaigns
END:VEVENT
BEGIN:VEVENT
DTSTART;TZID=America/New_York:20260327T150000
DTEND;TZID=America/New_York:20260327T150000
DTSTAMP:20260421T045848
CREATED:20260130T161109Z
LAST-MODIFIED:20260217T172504Z
UID:10017923-1774623600-1774623600@njdmava.gov
SUMMARY:Barnegat's National Vietnam War Veterans Day
DESCRIPTION:DVA will have a Veterans Service Officer present.
URL:https://njdmava.gov/event/barnegats-national-vietnam-war-veterans-day/
CATEGORIES:Community Sponsored Events,NJ Dept of Veterans Affairs,Outreach Campaigns
END:VEVENT
END:VCALENDAR