BEGIN:VCALENDAR
VERSION:2.0
PRODID:-//DMA/DVA - ECPv6.15.18//NONSGML v1.0//EN
CALSCALE:GREGORIAN
METHOD:PUBLISH
X-WR-CALNAME:DMA/DVA
X-ORIGINAL-URL:https://njdmava.gov
X-WR-CALDESC:Events for DMA/DVA
REFRESH-INTERVAL;VALUE=DURATION:PT1H
X-Robots-Tag:noindex
X-PUBLISHED-TTL:PT1H
BEGIN:VTIMEZONE
TZID:America/New_York
BEGIN:DAYLIGHT
TZOFFSETFROM:-0500
TZOFFSETTO:-0400
TZNAME:EDT
DTSTART:20250309T070000
END:DAYLIGHT
BEGIN:STANDARD
TZOFFSETFROM:-0400
TZOFFSETTO:-0500
TZNAME:EST
DTSTART:20251102T060000
END:STANDARD
BEGIN:DAYLIGHT
TZOFFSETFROM:-0500
TZOFFSETTO:-0400
TZNAME:EDT
DTSTART:20260308T070000
END:DAYLIGHT
BEGIN:STANDARD
TZOFFSETFROM:-0400
TZOFFSETTO:-0500
TZNAME:EST
DTSTART:20261101T060000
END:STANDARD
BEGIN:DAYLIGHT
TZOFFSETFROM:-0500
TZOFFSETTO:-0400
TZNAME:EDT
DTSTART:20270314T070000
END:DAYLIGHT
BEGIN:STANDARD
TZOFFSETFROM:-0400
TZOFFSETTO:-0500
TZNAME:EST
DTSTART:20271107T060000
END:STANDARD
END:VTIMEZONE
BEGIN:VEVENT
DTSTART;TZID=America/New_York:20260502T090000
DTEND;TZID=America/New_York:20260502T140000
DTSTAMP:20260419T120809
CREATED:20260221T200646Z
LAST-MODIFIED:20260221T200646Z
UID:10018126-1777712400-1777730400@njdmava.gov
SUMMARY:Veteran Stand Down | Wayne
DESCRIPTION:DVA will have a Veterans Service Officer present.
URL:https://njdmava.gov/event/veteran-stand-down-wayne/
CATEGORIES:Community Sponsored Events,NJ Dept of Veterans Affairs,Outreach Campaigns,Veteran Support Groups
END:VEVENT
BEGIN:VEVENT
DTSTART;TZID=America/New_York:20260506T090000
DTEND;TZID=America/New_York:20260506T150000
DTSTAMP:20260419T120810
CREATED:20260402T170614Z
LAST-MODIFIED:20260402T170800Z
UID:10018618-1778058000-1778079600@njdmava.gov
SUMMARY:Military Sexual Trauma Claims Clinic | Elmwood Park
DESCRIPTION:
URL:https://njdmava.gov/event/military-sexual-trauma-claims-clinic-elmwood-park/
CATEGORIES:Community Sponsored Events,NJ Dept of Veterans Affairs,Outreach Campaigns
END:VEVENT
BEGIN:VEVENT
DTSTART;TZID=America/New_York:20260517T120000
DTEND;TZID=America/New_York:20260517T120000
DTSTAMP:20260419T120810
CREATED:20260224T185132Z
LAST-MODIFIED:20260224T185132Z
UID:10018146-1779019200-1779019200@njdmava.gov
SUMMARY:Somerset Patriots Military Appreciation Day
DESCRIPTION:DVA will have a Veteran Service Officer present.
URL:https://njdmava.gov/event/somerset-patriots-military-appreciation-day/
CATEGORIES:Community Sponsored Events,NJ Dept of Veterans Affairs,Outreach Campaigns
END:VEVENT
BEGIN:VEVENT
DTSTART;TZID=America/New_York:20260520T100000
DTEND;TZID=America/New_York:20260520T140000
DTSTAMP:20260419T120810
CREATED:20260309T180257Z
LAST-MODIFIED:20260312T174036Z
UID:10018511-1779271200-1779285600@njdmava.gov
SUMMARY:South Jersey Regional Stand Down | Atlantic City
DESCRIPTION:DVA will have a Veterans Service Officer present.
URL:https://njdmava.gov/event/south-jersey-regional-stand-down-atlantic-city/
CATEGORIES:Community Sponsored Events,NJ Dept of Veterans Affairs,Outreach Campaigns,VA Events,Veteran Support Groups,Veterans Organization Events
END:VEVENT
END:VCALENDAR