BEGIN:VCALENDAR
VERSION:2.0
PRODID:-//DMA/DVA - ECPv6.15.18//NONSGML v1.0//EN
CALSCALE:GREGORIAN
METHOD:PUBLISH
X-ORIGINAL-URL:https://njdmava.gov
X-WR-CALDESC:Events for DMA/DVA
REFRESH-INTERVAL;VALUE=DURATION:PT1H
X-Robots-Tag:noindex
X-PUBLISHED-TTL:PT1H
BEGIN:VTIMEZONE
TZID:America/New_York
BEGIN:DAYLIGHT
TZOFFSETFROM:-0500
TZOFFSETTO:-0400
TZNAME:EDT
DTSTART:20250309T070000
END:DAYLIGHT
BEGIN:STANDARD
TZOFFSETFROM:-0400
TZOFFSETTO:-0500
TZNAME:EST
DTSTART:20251102T060000
END:STANDARD
BEGIN:DAYLIGHT
TZOFFSETFROM:-0500
TZOFFSETTO:-0400
TZNAME:EDT
DTSTART:20260308T070000
END:DAYLIGHT
BEGIN:STANDARD
TZOFFSETFROM:-0400
TZOFFSETTO:-0500
TZNAME:EST
DTSTART:20261101T060000
END:STANDARD
BEGIN:DAYLIGHT
TZOFFSETFROM:-0500
TZOFFSETTO:-0400
TZNAME:EDT
DTSTART:20270314T070000
END:DAYLIGHT
BEGIN:STANDARD
TZOFFSETFROM:-0400
TZOFFSETTO:-0500
TZNAME:EST
DTSTART:20271107T060000
END:STANDARD
END:VTIMEZONE
BEGIN:VEVENT
DTSTART;TZID=America/New_York:20260430T090000
DTEND;TZID=America/New_York:20260430T130000
DTSTAMP:20260419T121223
CREATED:20260330T132958Z
LAST-MODIFIED:20260330T133235Z
UID:10018598-1777539600-1777554000@njdmava.gov
SUMMARY:2026 Casino Career Fair & Veteran Resource Event
DESCRIPTION:DVA will have a Veterans Service Officer present.
URL:https://njdmava.gov/event/2026-casino-career-fair-veteran-resource-event/
CATEGORIES:Community Sponsored Events,NJ Dept of Veterans Affairs,Outreach Campaigns,Veterans Organization Events
END:VEVENT
END:VCALENDAR