BEGIN:VCALENDAR
VERSION:2.0
PRODID:-//DMA/DVA - ECPv6.15.18//NONSGML v1.0//EN
CALSCALE:GREGORIAN
METHOD:PUBLISH
X-WR-CALNAME:DMA/DVA
X-ORIGINAL-URL:https://njdmava.gov
X-WR-CALDESC:Events for DMA/DVA
REFRESH-INTERVAL;VALUE=DURATION:PT1H
X-Robots-Tag:noindex
X-PUBLISHED-TTL:PT1H
BEGIN:VTIMEZONE
TZID:America/New_York
BEGIN:DAYLIGHT
TZOFFSETFROM:-0500
TZOFFSETTO:-0400
TZNAME:EDT
DTSTART:20300310T070000
END:DAYLIGHT
BEGIN:STANDARD
TZOFFSETFROM:-0400
TZOFFSETTO:-0500
TZNAME:EST
DTSTART:20301103T060000
END:STANDARD
BEGIN:DAYLIGHT
TZOFFSETFROM:-0500
TZOFFSETTO:-0400
TZNAME:EDT
DTSTART:20310309T070000
END:DAYLIGHT
BEGIN:STANDARD
TZOFFSETFROM:-0400
TZOFFSETTO:-0500
TZNAME:EST
DTSTART:20311102T060000
END:STANDARD
BEGIN:DAYLIGHT
TZOFFSETFROM:-0500
TZOFFSETTO:-0400
TZNAME:EDT
DTSTART:20320314T070000
END:DAYLIGHT
BEGIN:STANDARD
TZOFFSETFROM:-0400
TZOFFSETTO:-0500
TZNAME:EST
DTSTART:20321107T060000
END:STANDARD
END:VTIMEZONE
BEGIN:VEVENT
DTSTART;TZID=America/New_York:20310403T200000
DTEND;TZID=America/New_York:20310403T200000
DTSTAMP:20260420T091504
CREATED:20241014T161100Z
LAST-MODIFIED:20241014T161112Z
UID:10018676-1933012800-1933012800@njdmava.gov
SUMMARY:VA Guided Yoga Nidra Meditation Class
DESCRIPTION:
URL:https://njdmava.gov/event/va-guided-yoga-nidra-meditation-class-2/2031-04-03/
CATEGORIES:VA Events,Virtual Events
END:VEVENT
BEGIN:VEVENT
DTSTART;TZID=America/New_York:20310408T170000
DTEND;TZID=America/New_York:20310408T170000
DTSTAMP:20260420T091504
CREATED:20241014T161016Z
LAST-MODIFIED:20241014T161016Z
UID:10018696-1933434000-1933434000@njdmava.gov
SUMMARY:VA Guided Yoga Nidra Meditation Class
DESCRIPTION:
URL:https://njdmava.gov/event/va-guided-yoga-nidra-meditation-class/2031-04-08/
CATEGORIES:VA Events,Virtual Events
END:VEVENT
BEGIN:VEVENT
DTSTART;TZID=America/New_York:20310409T150000
DTEND;TZID=America/New_York:20310409T160000
DTSTAMP:20260420T091504
CREATED:20250108T151307Z
LAST-MODIFIED:20250108T171654Z
UID:10018708-1933513200-1933516800@njdmava.gov
SUMMARY:VANJHCS Nutrition Program for Veterans
DESCRIPTION:Dear Veteran\, \nWe’re excited to invite you to our FREE Virtual Mediterranean Diet Classes\, designed to help you optimize your wellness through the power of nutrition. \nEvery 2nd Wednesday from 3:00 p.m. – 4:00 p.m.\, our expert Registered Dietitian Nutritionists will guide you through an engaging virtual session at no cost to VA-enrolled Veterans. \nDuring these informative classes\, you’ll discover valuable meal planning tips\, learn strategic food selection approaches\, and understand the profound health benefits supporting your brain and heart health. \nThis exceptional eating approach focuses on fruits\, vegetables\, and whole grains\, promoting heart and brain health while significantly reducing the risk of chronic diseases. Scientific research consistently demonstrates its positive impact on overall wellness. \nSimply call 973-676-1000 ext. 20-1829 to schedule your virtual session. Our dedicated team is ready to support your nutritional journey. Our VA Nutrition and Food Services is committed to helping you manage chronic conditions\, develop healthy eating habits\, and improve your overall wellness. Take the first step towards a healthier you by joining our virtual classes today! \nEmpower your health through nutrition. We look forward to seeing you in class!
URL:https://njdmava.gov/event/vanjhcs-nutrition-program-for-veterans/2031-04-09/
CATEGORIES:VA Events,Virtual Events
END:VEVENT
BEGIN:VEVENT
DTSTART;TZID=America/New_York:20310410T100000
DTEND;TZID=America/New_York:20310410T110000
DTSTAMP:20260420T091504
CREATED:20250407T122917Z
LAST-MODIFIED:20250407T122917Z
UID:10018713-1933581600-1933585200@njdmava.gov
SUMMARY:VA Phone Support Group
DESCRIPTION:Thursdays at 10 a.m. weekly. This is a telephone group\, from the comfort of your own home. Trained mental health professionals from VA will lead guided meditation and relaxation sessions. VA will also be checking in with everyone on their level of stress and providing helpful coping tools. Science tells us that relaxation and reduction in stress helps strengthen our immune systems – that’s important right now! \nLearn More
URL:https://njdmava.gov/event/va-phone-support-group/2031-04-10/
CATEGORIES:VA Events,Virtual Events
END:VEVENT
BEGIN:VEVENT
DTSTART;TZID=America/New_York:20310410T180000
DTEND;TZID=America/New_York:20310410T200000
DTSTAMP:20260420T091504
CREATED:20230712T135715Z
LAST-MODIFIED:20230712T135715Z
UID:10018716-1933610400-1933617600@njdmava.gov
SUMMARY:"The Listening Ear" Virtual
DESCRIPTION:
URL:https://njdmava.gov/event/the-listening-ear-virtual/2031-04-10/
CATEGORIES:Community Sponsored Events,Veteran Support Groups,Virtual Events
END:VEVENT
BEGIN:VEVENT
DTSTART;TZID=America/New_York:20310410T190000
DTEND;TZID=America/New_York:20310410T190000
DTSTAMP:20260420T091504
CREATED:20250711T183428Z
LAST-MODIFIED:20250711T183428Z
UID:10018718-1933614000-1933614000@njdmava.gov
SUMMARY:First Responder & Veteran Peer Group on Zoom
DESCRIPTION:
URL:https://njdmava.gov/event/first-responder-veteran-peer-group-on-zoom/2031-04-10/
CATEGORIES:Community Sponsored Events,Virtual Events
END:VEVENT
BEGIN:VEVENT
DTSTART;TZID=America/New_York:20310410T200000
DTEND;TZID=America/New_York:20310410T200000
DTSTAMP:20260420T091504
CREATED:20230305T170358Z
LAST-MODIFIED:20230305T171026Z
UID:10018721-1933617600-1933617600@njdmava.gov
SUMMARY:Make the Connection Virtual
DESCRIPTION:A safe and confidential environment where you can build lasting relationships while exploring and healing your trauma — all alongside others who have ‘been there’. \nLearn More and Register
URL:https://njdmava.gov/event/make-the-connection-virtual/2031-04-10/
CATEGORIES:Community Sponsored Events,Veteran Support Groups,Virtual Events
END:VEVENT
BEGIN:VEVENT
DTSTART;TZID=America/New_York:20310410T200000
DTEND;TZID=America/New_York:20310410T200000
DTSTAMP:20260420T091504
CREATED:20241014T161100Z
LAST-MODIFIED:20241014T161112Z
UID:10018720-1933617600-1933617600@njdmava.gov
SUMMARY:VA Guided Yoga Nidra Meditation Class
DESCRIPTION:
URL:https://njdmava.gov/event/va-guided-yoga-nidra-meditation-class-2/2031-04-10/
CATEGORIES:VA Events,Virtual Events
END:VEVENT
END:VCALENDAR