BEGIN:VCALENDAR
VERSION:2.0
PRODID:-//DMA/DVA - ECPv6.15.18//NONSGML v1.0//EN
CALSCALE:GREGORIAN
METHOD:PUBLISH
X-WR-CALNAME:DMA/DVA
X-ORIGINAL-URL:https://njdmava.gov
X-WR-CALDESC:Events for DMA/DVA
REFRESH-INTERVAL;VALUE=DURATION:PT1H
X-Robots-Tag:noindex
X-PUBLISHED-TTL:PT1H
BEGIN:VTIMEZONE
TZID:America/New_York
BEGIN:DAYLIGHT
TZOFFSETFROM:-0500
TZOFFSETTO:-0400
TZNAME:EDT
DTSTART:20250309T070000
END:DAYLIGHT
BEGIN:STANDARD
TZOFFSETFROM:-0400
TZOFFSETTO:-0500
TZNAME:EST
DTSTART:20251102T060000
END:STANDARD
BEGIN:DAYLIGHT
TZOFFSETFROM:-0500
TZOFFSETTO:-0400
TZNAME:EDT
DTSTART:20260308T070000
END:DAYLIGHT
BEGIN:STANDARD
TZOFFSETFROM:-0400
TZOFFSETTO:-0500
TZNAME:EST
DTSTART:20261101T060000
END:STANDARD
BEGIN:DAYLIGHT
TZOFFSETFROM:-0500
TZOFFSETTO:-0400
TZNAME:EDT
DTSTART:20270314T070000
END:DAYLIGHT
BEGIN:STANDARD
TZOFFSETFROM:-0400
TZOFFSETTO:-0500
TZNAME:EST
DTSTART:20271107T060000
END:STANDARD
END:VTIMEZONE
BEGIN:VEVENT
DTSTART;TZID=America/New_York:20260427T120000
DTEND;TZID=America/New_York:20260427T130000
DTSTAMP:20260421T073511
CREATED:20251219T205646Z
LAST-MODIFIED:20260128T174128Z
UID:10017914-1777291200-1777294800@njdmava.gov
SUMMARY:Cumberland County CBOC Veteran Information Session
DESCRIPTION:
URL:https://njdmava.gov/event/cumberland-county-cboc-veteran-information-session/2026-04-27/
LOCATION:Cumberland County CBOC\, 79 Landis Avenue\, Vineland\, NJ\, 08360\, United States
CATEGORIES:VA Events
END:VEVENT
BEGIN:VEVENT
DTSTART;TZID=America/New_York:20260505T120000
DTEND;TZID=America/New_York:20260505T130000
DTSTAMP:20260421T073511
CREATED:20241003T141558Z
LAST-MODIFIED:20260312T133157Z
UID:10018520-1777982400-1777986000@njdmava.gov
SUMMARY:Cape May County CBOC Veteran Information Session
DESCRIPTION:
URL:https://njdmava.gov/event/cape-may-county-cboc-veteran-information-session/2026-05-05/
LOCATION:Cape May County CBOC\, 3801 Route 9 South\, Rio Grande\, NJ\, 08242\, United States
CATEGORIES:VA Events
END:VEVENT
BEGIN:VEVENT
DTSTART;TZID=America/New_York:20260602T120000
DTEND;TZID=America/New_York:20260602T130000
DTSTAMP:20260421T073511
CREATED:20241003T141558Z
LAST-MODIFIED:20260312T133157Z
UID:10018521-1780401600-1780405200@njdmava.gov
SUMMARY:Cape May County CBOC Veteran Information Session
DESCRIPTION:
URL:https://njdmava.gov/event/cape-may-county-cboc-veteran-information-session/2026-06-02/
LOCATION:Cape May County CBOC\, 3801 Route 9 South\, Rio Grande\, NJ\, 08242\, United States
CATEGORIES:VA Events
END:VEVENT
END:VCALENDAR